BEGIN:VCALENDAR
VERSION:2.0
PRODID:-//eventon.com NONSGML v1.0//EN
CALSCALE:GREGORIAN
METHOD:PUBLISH
BEGIN:VEVENT
UID:69e508631248f
DTSTAMP:20260419T165251Z
DTSTART:20251004T090000Z
DTEND:20251004T215900Z
LOCATION:Biblioteca Municipal C. Gerald Brenan\,  20\,  29120 Alhaurín el Grande\,  Málaga
SUMMARY:Cuentacuentos 📖 | Eso no es Normal
DESCRIPTION:\nhttps://www.alhaurinhoy.es/Eventos/cuentacuentos-%f0%9f%93%96
 -eso-no-es-normal/
URL:https://www.alhaurinhoy.es/Eventos/cuentacuentos-%f0%9f%93%96-eso-no-es-normal/
END:VEVENT
END:VCALENDAR